BEGIN:VCALENDAR
VERSION:2.0
PRODID:Demos (https://demonstrations.org)
BEGIN:VEVENT
CLASS:PUBLIC
DTSTAMP:20260411T065607Z
DESCRIPTION:cedarvoicesberlin HANDS OFF LEBANON NOW. OVER 100 AIRSTRIKES IN 10 MINUTES. NO WARNINGS. NO EVACUATION. ONLY DESTRUCTION. STOP THE ZIONIST KILLING MACHINE NOW. HANDS OFF THE SWANA REGION.
DTEND:20260419T163000Z
GEO:52.517389;13.395131
LAST-MODIFIED:20260412T005547Z
LOCATION:Berlin
ORGANIZER;CN=Palästina-Solidarität:mailto:None
DTSTART:20260419T143000Z
SUMMARY:Laufdemo: Hand off Lebanon now - U-Bhf Turmstr.
TRANSP:OPAQUE
UID:00000000-0000-0000-0000-00000000df66
URL:http://palaestina-solidaritaet.de/mein-kalender/?mc_id=5576
END:VEVENT
END:VCALENDAR