BEGIN:VCALENDAR
VERSION:2.0
PRODID:Demos (https://demonstrations.org)
BEGIN:VEVENT
CLASS:PUBLIC
DTSTAMP:20260411T000411Z
DESCRIPTION:Erinnerung Jahrestag Haus der Befreiung
DTEND:20260421T180000Z
GEO:52.548168;13.578321
LAST-MODIFIED:20260411T000411Z
LOCATION:Landsberger Allee 563 | Landsberger Allee 563\,12679 Kundgebung und Hauptversammlungsort. Im Anschluss eine Spazierstrecke die Landsberger Allee entlang zur Nikolai- E.- Bersarin- Brücke\, 12685
ORGANIZER;CN=Versammlungsbehörde Berlin:mailto:None
DTSTART:20260421T170000Z
SUMMARY:Erinnerung Jahrestag Haus der Befreiung
TRANSP:OPAQUE
UID:00000000-0000-0000-0000-00000000df5f
URL:https://www.berlin.de/polizei/service/versammlungsbehoerde/versammlungen-aufzuege/
END:VEVENT
END:VCALENDAR