BEGIN:VCALENDAR
VERSION:2.0
PRODID:Demos (https://demonstrations.org)
BEGIN:VEVENT
CLASS:PUBLIC
DTSTAMP:20260410T000406Z
DESCRIPTION:Petitionsübergabe: Unsere Körper sind nicht euer Business
DTEND:20260423T140000Z
GEO:52.518594;13.376282
LAST-MODIFIED:20260410T000406Z
LOCATION:Platz der Republik 1
ORGANIZER;CN=Versammlungsbehörde Berlin:mailto:None
DTSTART:20260423T130000Z
SUMMARY:Petitionsübergabe: Unsere Körper sind nicht euer Business
TRANSP:OPAQUE
UID:00000000-0000-0000-0000-00000000df38
URL:https://www.berlin.de/polizei/service/versammlungsbehoerde/versammlungen-aufzuege/
END:VEVENT
END:VCALENDAR