BEGIN:VCALENDAR
VERSION:2.0
PRODID:Demos (https://demonstrations.org)
BEGIN:VEVENT
CLASS:PUBLIC
DTSTAMP:20260409T120415Z
DESCRIPTION:Aufklärung über Tierausbeutung und ethischer Veganismus als Konsequenz
DTEND:20260419T180000Z
GEO:52.516368;13.378880
LAST-MODIFIED:20260418T204033Z
LOCATION:Pariser Platz
ORGANIZER;CN=Versammlungsbehörde Berlin:mailto:None
DTSTART:20260419T130000Z
SUMMARY:Aufklärung über Tierausbeutung und ethischer Veganismus als Konsequenz
TRANSP:OPAQUE
UID:00000000-0000-0000-0000-00000000df25
URL:https://www.berlin.de/polizei/service/versammlungsbehoerde/versammlungen-aufzuege/
END:VEVENT
END:VCALENDAR