BEGIN:VCALENDAR
VERSION:2.0
PRODID:Demos (https://demonstrations.org)
BEGIN:VEVENT
CLASS:PUBLIC
DTSTAMP:20260409T000643Z
DESCRIPTION:Demokratie leben | Demokratie gestalten - Der OMNIBUS für Direkte Demokratie im Dauereinsatz für demokratische Teilhabe. Der OMNIBUS für Direkte Demokratie fährt seit 1987 als Kunstwerk durch Deutschland und Europa und unterstützt laufende direktdemokratische Verfahren (hier: Berlin Werbefrei - Verkehrsentscheid). Er steht als Symbol für demokratische Teilhabe und Mitbestimmung (von lateinisch omnibus = „für alle“). (vom 20.04. bis 23.04.2026\,Mo.\,Di.\,Mi.\,Do.)
DTEND:20260421T235900Z
GEO:52.537199;13.606088
LAST-MODIFIED:20260409T000643Z
LOCATION:Alice-Salomon-Platz 5
ORGANIZER;CN=Versammlungsbehörde Berlin:mailto:None
DTSTART:20260421T000000Z
SUMMARY:Demokratie leben | Demokratie gestalten - Der OMNIBUS für Direkte Demokratie im Dauereinsatz für dem
TRANSP:OPAQUE
UID:00000000-0000-0000-0000-00000000ded6
URL:https://www.berlin.de/polizei/service/versammlungsbehoerde/versammlungen-aufzuege/
END:VEVENT
END:VCALENDAR