BEGIN:VCALENDAR
VERSION:2.0
PRODID:Demos (https://demonstrations.org)
BEGIN:VEVENT
CLASS:PUBLIC
DTSTAMP:20260407T120520Z
DESCRIPTION:Ende der Mullah-Diktatur – Solidarität mit der „Löwe und Sonne“-Revolution
DTEND:20260423T190000Z
GEO:52.516254;13.377410
LAST-MODIFIED:20260407T120520Z
LOCATION:Platz des 18. März
ORGANIZER;CN=Versammlungsbehörde Berlin:mailto:None
DTSTART:20260423T160000Z
SUMMARY:Ende der Mullah-Diktatur – Solidarität mit der „Löwe und Sonne“-Revolution
TRANSP:OPAQUE
UID:00000000-0000-0000-0000-00000000de66
URL:https://www.berlin.de/polizei/service/versammlungsbehoerde/versammlungen-aufzuege/
END:VEVENT
END:VCALENDAR