BEGIN:VCALENDAR
VERSION:2.0
PRODID:Demos (https://demonstrations.org)
BEGIN:VEVENT
CLASS:PUBLIC
DTSTAMP:20260404T005609Z
DESCRIPTION:Mask Off Maersk Protest-Kundgebung - Johanniswall 7
DTEND:20260423T133000Z
GEO:53.550341;10.000654
LAST-MODIFIED:20260411T065548Z
LOCATION:Hamburg
ORGANIZER;CN=Palästina-Solidarität:mailto:None
DTSTART:20260423T113000Z
SUMMARY:Mask Off Maersk Protest-Kundgebung - Johanniswall 7
TRANSP:OPAQUE
UID:00000000-0000-0000-0000-00000000de43
URL:http://palaestina-solidaritaet.de/mein-kalender/?mc_id=5494
END:VEVENT
END:VCALENDAR