BEGIN:VCALENDAR
VERSION:2.0
PRODID:Demos (https://demonstrations.org)
BEGIN:VEVENT
CLASS:PUBLIC
DTSTAMP:20260403T000410Z
DESCRIPTION:Rana Plaza Gedenktag - Gedenken an die Opfer des Einsturzes der Textilfabrik Rana Plaza in Bangladesh
DTEND:20260424T183000Z
GEO:52.520853;13.413997
LAST-MODIFIED:20260403T000410Z
LOCATION:Alexanderplatz 2
ORGANIZER;CN=Versammlungsbehörde Berlin:mailto:None
DTSTART:20260424T163000Z
SUMMARY:Rana Plaza Gedenktag - Gedenken an die Opfer des Einsturzes der Textilfabrik Rana Plaza in Banglades
TRANSP:OPAQUE
UID:00000000-0000-0000-0000-00000000de2c
URL:https://www.berlin.de/polizei/service/versammlungsbehoerde/versammlungen-aufzuege/
END:VEVENT
END:VCALENDAR