BEGIN:VCALENDAR
VERSION:2.0
PRODID:Demos (https://demonstrations.org)
BEGIN:VEVENT
CLASS:PUBLIC
DTSTAMP:20260401T120408Z
DESCRIPTION:Marsch des Lebens: Erinnern verpflichtet - Erinnern\, Versöhnen\, Zeichen setzen für jüdisches Leben und gegen Antisemitismus 81 Jahre nach dem Ende des Holocaust
DTEND:20260419T183000Z
GEO:52.516487;13.393826
LAST-MODIFIED:20260401T120408Z
LOCATION:Bebelplatz - Unter den Linden - Glinkastr. - Französische Str. - Hannah-Ahrendt-Str. - Ebertstr. - Platz des 18. März - Pariser Platz
ORGANIZER;CN=Versammlungsbehörde Berlin:mailto:None
DTSTART:20260419T160000Z
SUMMARY:Marsch des Lebens: Erinnern verpflichtet - Erinnern\, Versöhnen\, Zeichen setzen für jüdisches Leben u
TRANSP:OPAQUE
UID:00000000-0000-0000-0000-00000000ddd9
URL:https://www.berlin.de/polizei/service/versammlungsbehoerde/versammlungen-aufzuege/
END:VEVENT
END:VCALENDAR