BEGIN:VCALENDAR
VERSION:2.0
PRODID:Demos (https://demonstrations.org)
BEGIN:VEVENT
CLASS:PUBLIC
DTSTAMP:20260331T180423Z
DESCRIPTION:Friedlicher Systemwandel - Geloste Gesellschaftsräte statt kaputter Politik. Frage an den Bundestag: Können wir endlich die Probleme von uns allen angehen - statt dass sich nur die Überreichen ihren Willen erkaufen.
DTEND:20260423T124500Z
GEO:52.518594;13.376282
LAST-MODIFIED:20260331T180423Z
LOCATION:Platz der Republik 1
ORGANIZER;CN=Versammlungsbehörde Berlin:mailto:None
DTSTART:20260423T113000Z
SUMMARY:Friedlicher Systemwandel - Geloste Gesellschaftsräte statt kaputter Politik. Frage an den Bundestag:
TRANSP:OPAQUE
UID:00000000-0000-0000-0000-00000000ddbf
URL:https://www.berlin.de/polizei/service/versammlungsbehoerde/versammlungen-aufzuege/
END:VEVENT
END:VCALENDAR